Workbook

Sheet 参数表
A1: 序号 | B1: 任务大类 | C1: 任务小类 | I1: 任务阶段计划 | O1: 项目信息 | S1: 相关方信息 | V1: 其他参数
B2: 任务大类 | C2: =B3 -> 检查 | D2: =B4 -> WMS | E2: =B5 -> WCS | F2: =B6 -> 接口 | G2: =B7 -> 大类5 | H2: =B8 -> 大类6 | I2: 任务阶段 | K2: 开始日期 | L2: 预期工期 | M2: 完成日期 | O2: 完成比例 | P2: 是否完成 | Q2: 项目状态 | R2: 项目人员 | S2: 相关方类型 | T2: 相关方 | U2: 相关方状态 | V2: 任务提醒显示周期 | W2: 项目人员
A3: 1 | B3: 检查 | C3: M11网络情况 | D3: 入库管理1 | E3: 箔材提升机 | F3: 立体库入库接口 | G3: 大类5-小类1 | H3: 大类6-小类1 | I3: 调试 | K3: 44958 | O3: 0 | P3: 已完成 | Q3: 进度将落后 | R3: 刘波 | S3: MES系统 | T3: 1 | U3: 未进场 | V3: 21
A4: 2 | B4: WMS | C4: M11AGV自动情况 | D4: 入库管理2 | E4: 涂布机上料 | F4: 立体库出库接口 | G4: 大类5-小类2 | H4: 大类6-小类2 | I4: 第1周 | J4: =$I$3&I4 -> 调试第1周 | K4: =K3 -> 44958 | L4: 7 | M4: =IF(L4="","",K4+L4)-1 -> 44964 | O4: 0.1 | P4: 未完成 | Q4: 进度已落后 | R4: 谭潇 | S4: ERP系统 | T4: 2 | U4: 单调中
A5: 3 | B5: WCS | C5: 涂布机通讯情况 | D5: 入库管理3 | E5: 涂布机下料 | F5: 出入口反馈接口 | G5: 大类5-小类3 | H5: 大类6-小类3 | I5: 第2周 | J5: =$I$3&I5 -> 调试第2周 | K5: =IF(L5="","",M4)+1 -> 44965 | L5: 7 | M5: =IF(L5="","",K5+L5)-1 -> 44971 | O5: 0.2 | P5: 未开始 | Q5: 进度正常 | R5: 胡童庆 | S5: AGV系统 | T5: 3 | U5: 联调中 | V5: 进度将落后提醒周期
A6: 4 | B6: 接口 | C6: 辊压机通讯情况 | D6: 入库管理4 | E6: 辊压机上料 | F6: 出入库完成接口 | G6: 大类5-小类4 | H6: 大类6-小类4 | I6: 第3周 | J6: =$I$3&I6 -> 调试第3周 | K6: =IF(L6="","",M5)+1 -> 44972 | L6: 7 | M6: =IF(L6="","",K6+L6)-1 -> 44978 | O6: 0.3 | R6: 肖洋 | S6: 涂布机 | U6: 联调完成 | V6: 21
A7: 5 | B7: 大类5 | E7: M11缓存架 | F7: 出入库手动完成/取消接口 | I7: 第4周 | J7: =$I$3&I7 -> 调试第4周 | K7: =IF(L7="","",M6)+1 -> 44979 | L7: 7 | M7: =IF(L7="","",K7+L7)-1 -> 44985 | O7: 0.4 | R7: 陈勇 | S7: 辊分机 | U7: 陪产中
A8: 6 | B8: 大类6 | D8: 物料管理 | E8: M11提升机 | I8: 第5周 | J8: =$I$3&I8 -> 调试第5周 | K8: =IF(L8="","",M7)+1 -> 44986 | L8: 7 | M8: =IF(L8="","",K8+L8)-1 -> 44992 | O8: 0.5 | R8: 彭雄杰 | S8: 叠片机 | U8: 已撤场
A9: 7 | E9: M11叠片机 | I9: 第6周 | J9: =$I$3&I9 -> 调试第6周 | K9: =IF(L9="","",M8)+1 -> 44993 | L9: 7 | M9: =IF(L9="","",K9+L9)-1 -> 44999 | O9: 0.6 | R9: 贺文静 | S9: 立库系统
A10: 8 | E10: 箔材提升机 | I10: 第7周 | J10: =$I$3&I10 -> 调试第7周 | K10: =IF(L10="","",M9)+1 -> 45000 | L10: 7 | M10: =IF(L10="","",K10+L10)-1 -> 45006 | O10: 0.7 | R10: 阳丹 | S10: 堆垛机电控
A11: 9 | E11: M11空筒回收 | I11: 第8周 | J11: =$I$3&I11 -> 调试第8周 | K11: =IF(L11="","",M10)+1 -> 45007 | L11: 7 | M11: =IF(L11="","",K11+L11)-1 -> 45013 | O11: 0.8 | R11: 曾南阳 | S11: 输送线电控
A12: 10 | I12: 第9周 | J12: =$I$3&I12 -> 调试第9周 | K12: =IF(L12="","",M11)+1 -> 45014 | L12: 7 | M12: =IF(L12="","",K12+L12)-1 -> 45020 | O12: 0.9 | R12: 曾培
A13: 11 | I13: 第10周 | J13: =$I$3&I13 -> 调试第10周 | K13: =IF(L13="","",M12)+1 -> 45021 | L13: 7 | M13: =IF(L13="","",K13+L13)-1 -> 45027 | O13: 1 | R13: 覃楚胧
A14: 12 | I14: 第11周 | J14: =$I$3&I14 -> 调试第11周 | K14: =IF(L14="","",M13)+1 -> 45028 | L14: 7 | M14: =IF(L14="","",K14+L14)-1 -> 45034 | R14: 张鑫
A15: 13 | I15: 第12周 | J15: =$I$3&I15 -> 调试第12周 | K15: =IF(L15="","",M14)+1 -> 45035 | L15: 7 | M15: =IF(L15="","",K15+L15)-1 -> 45041 | R15: 李华
A16: 14 | I16: 第13周 | J16: =$I$3&I16 -> 调试第13周 | K16: =IF(L16="","",M15)+1 -> 45042 | L16: 7 | M16: =IF(L16="","",K16+L16)-1 -> 45048 | R16: 邓俊杰
A17: 15 | I17: 第14周 | J17: =$I$3&I17 -> 调试第14周 | K17: =IF(L17="","",M16)+1 -> 45049 | L17: 7 | M17: =IF(L17="","",K17+L17)-1 -> 45055 | R17: 胡福昊
A18: 16 | I18: 第15周 | J18: =$I$3&I18 -> 调试第15周 | K18: =IF(L18="","",M17)+1 -> 45056 | L18: 7 | M18: =IF(L18="","",K18+L18)-1 -> 45062 | R18: 万科达
A19: 17 | I19: 第16周 | J19: =$I$3&I19 -> 调试第16周 | K19: =IF(L19="","",M18)+1 -> 45063 | L19: 7 | M19: =IF(L19="","",K19+L19)-1 -> 45069 | R19: 马勇棋
A20: 18 | I20: 第17周 | J20: =$I$3&I20 -> 调试第17周 | K20: =IF(L20="","",M19)+1 -> 45070 | L20: 7 | M20: =IF(L20="","",K20+L20)-1 -> 45076 | R20: 向黎
A21: 19 | I21: 第18周 | J21: =$I$3&I21 -> 调试第18周 | K21: =IF(L21="","",M20)+1 -> 45077 | L21: 7 | M21: =IF(L21="","",K21+L21)-1 -> 45083 | R21: 李传洋
A22: 20 | I22: 第19周 | J22: =$I$3&I22 -> 调试第19周 | K22: =IF(L22="","",M21)+1 -> 45084 | L22: 7 | M22: =IF(L22="","",K22+L22)-1 -> 45090
A23: 21 | I23: 第20周 | J23: =$I$3&I23 -> 调试第20周 | K23: =IF(L23="","",M22)+1 -> 45091 | L23: 7 | M23: =IF(L23="","",K23+L23)-1 -> 45097
A24: 22 | I24: 第21周 | J24: =$I$3&I24 -> 调试第21周 | K24: =IF(L24="","",M23)+1 -> 45098 | L24: 7 | M24: =IF(L24="","",K24+L24)-1 -> 45104
A25: 23 | I25: 第22周 | J25: =$I$3&I25 -> 调试第22周 | K25: =IF(L25="","",M24)+1 -> 45105 | L25: 7 | M25: =IF(L25="","",K25+L25)-1 -> 45111

Sheet 分解跟进
A1: 21KH231 苏州冠鸿 荆门亿纬H5项目软件系统任务分解跟进表
A2: 项目号 | C2: 21KH231 | E2: 项目名称 | G2: 应用于工厂物流MES系统研发合同 | M2: 人员安排 | N2: 设计和开发 | O2: 邓俊杰 | P2: 项目陪产 | Q2: 邓俊杰
A3: 专 业 | C3: 软件部 | E3: 客户名称 | G3: 荆门亿纬 | N3: 项目实施 | O3: 邓俊杰
A4: 序号 | B4: 任务分解 | E4: 任务跟进 | O4: 相关方信息
B5: 任务大类 | C5: 任务小类 | D5: 责任人 | E5: 开始周 | F5: 完成周 | G5: 开始日期 | H5: 完成日期 | I5: 工期 | J5: 完成比例 | K5: 是否完成 | L5: 任务状态 | M5: 任务提醒 | N5: 影响因素 | O5: 相关方类型 | P5: 相关方单位 | Q5: 相关方状态
A6: 1.1 | B6: 检查 | C6: M11网络情况 | D6: 邓俊杰 | E6: 调试第1周 | F6: 调试第3周 | G6: =IFERROR(VLOOKUP($E6,参数表!$J$3:$N$25,2,0),"暂无记录") -> 44958 | H6: =IFERROR(VLOOKUP($F6,参数表!$J$3:$N$25,4,0),"暂无记录") -> 44978 | I6: =IF(H6-G6<0,"请检查工期",H6-G6+1) -> 21 | J6: 1 | K6: =IF(J6=1,参数表!$P$3,IF(J6=0,参数表!$P$5,参数表!$P$4)) -> 已完成 | L6: =IF(K6="已完成","",IF((H6-TODAY())>参数表!$V$3,"",IF(H6="","",IF(TODAY()>H6,参数表!$Q$4,参数表!$Q$3)))) | M6: =IF(K6="已完成","",IF((H6-TODAY())>参数表!$V$3,"",IF(H6="","",IF(TODAY()>H6,"进度已落后"&(TODAY()-H6)&"天","还有"&(H6-TODAY())&"天，进度将落后")))) | N6: 光纤断了 | O6: AGV系统 | Q6: 联调完成
A7: 1.2 | C7: M11AGV自动情况 | D7: 邓俊杰 | E7: 调试第3周 | F7: 调试第8周 | G7: =IFERROR(VLOOKUP($E7,参数表!$J$3:$N$25,2,0),"暂无记录") -> 44972 | H7: =IFERROR(VLOOKUP($F7,参数表!$J$3:$N$25,4,0),"暂无记录") -> 45013 | I7: =IF(H7-G7<0,"请检查工期",H7-G7+1) -> 42 | J7: 1 | K7: =IF(J7=1,参数表!$P$3,IF(J7=0,参数表!$P$5,参数表!$P$4)) -> 已完成 | L7: =IF(K7="已完成","",IF((H7-TODAY())>参数表!$V$3,"",IF(H7="","",IF(TODAY()>H7,参数表!$Q$4,参数表!$Q$3)))) | M7: =IF(K7="已完成","",IF((H7-TODAY())>参数表!$V$3,"",IF(H7="","",IF(TODAY()>H7,"进度已落后"&(TODAY()-H7)&"天","还有"&(H7-TODAY())&"天，进度将落后")))) | N7: 悬臂轴AGV未开始,悬臂轴联调 | O7: AGV系统 | Q7: 联调完成
A8: 1.3 | C8: 涂布机通讯情况 | D8: 邓俊杰 | E8: 调试第1周 | F8: 调试第1周 | G8: =IFERROR(VLOOKUP($E8,参数表!$J$3:$N$25,2,0),"暂无记录") -> 44958 | H8: =IFERROR(VLOOKUP($F8,参数表!$J$3:$N$25,4,0),"暂无记录") -> 44964 | I8: =IF(H8-G8<0,"请检查工期",H8-G8+1) -> 7 | J8: 1 | K8: =IF(J8=1,参数表!$P$3,IF(J8=0,参数表!$P$5,参数表!$P$4)) -> 已完成 | L8: =IF(K8="已完成","",IF((H8-TODAY())>参数表!$V$3,"",IF(H8="","",IF(TODAY()>H8,参数表!$Q$4,参数表!$Q$3)))) | M8: =IF(K8="已完成","",IF((H8-TODAY())>参数表!$V$3,"",IF(H8="","",IF(TODAY()>H8,"进度已落后"&(TODAY()-H8)&"天","还有"&(H8-TODAY())&"天，进度将落后")))) | O8: 涂布机 | Q8: 联调完成
A9: 1.4 | C9: 辊压机通讯情况 | D9: 邓俊杰 | E9: 调试第1周 | F9: 调试第1周 | G9: =IFERROR(VLOOKUP($E9,参数表!$J$3:$N$25,2,0),"暂无记录") -> 44958 | H9: =IFERROR(VLOOKUP($F9,参数表!$J$3:$N$25,4,0),"暂无记录") -> 44964 | I9: =IF(H9-G9<0,"请检查工期",H9-G9+1) -> 7 | J9: 1 | K9: =IF(J9=1,参数表!$P$3,IF(J9=0,参数表!$P$5,参数表!$P$4)) -> 已完成 | L9: =IF(K9="已完成","",IF((H9-TODAY())>参数表!$V$3,"",IF(H9="","",IF(TODAY()>H9,参数表!$Q$4,参数表!$Q$3)))) | M9: =IF(K9="已完成","",IF((H9-TODAY())>参数表!$V$3,"",IF(H9="","",IF(TODAY()>H9,"进度已落后"&(TODAY()-H9)&"天","还有"&(H9-TODAY())&"天，进度将落后")))) | O9: 辊分机 | Q9: 联调完成
A11: 2.1 | B11: WCS | C11: 涂布机上料 | D11: 邓俊杰 | E11: 调试第1周 | F11: 调试第1周 | G11: =IFERROR(VLOOKUP($E11,参数表!$J$3:$N$25,2,0),"暂无记录") -> 44958 | H11: =IFERROR(VLOOKUP($F11,参数表!$J$3:$N$25,4,0),"暂无记录") -> 44964 | I11: =IF(H11-G11<0,"请检查工期",H11-G11+1) -> 7 | J11: 1 | K11: =IF(J11=1,参数表!$P$3,IF(J11=0,参数表!$P$5,参数表!$P$4)) -> 已完成 | L11: =IF(K11="已完成","",IF((H11-TODAY())>参数表!$V$3,"",IF(H11="","",IF(TODAY()>H11,参数表!$Q$4,参数表!$Q$3)))) | M11: =IF(K11="已完成","",IF((H11-TODAY())>参数表!$V$3,"",IF(H11="","",IF(TODAY()>H11,"进度已落后"&(TODAY()-H11)&"天","还有"&(H11-TODAY())&"天，进度将落后")))) | O11: 涂布机 | Q11: 联调完成
A12: 2.2 | C12: 涂布机下料 | D12: 邓俊杰 | E12: 调试第1周 | F12: 调试第1周 | G12: =IFERROR(VLOOKUP($E12,参数表!$J$3:$N$25,2,0),"暂无记录") -> 44958 | H12: =IFERROR(VLOOKUP($F12,参数表!$J$3:$N$25,4,0),"暂无记录") -> 44964 | I12: =IF(H12-G12<0,"请检查工期",H12-G12+1) -> 7 | J12: 1 | K12: =IF(J12=1,参数表!$P$3,IF(J12=0,参数表!$P$5,参数表!$P$4)) -> 已完成 | L12: =IF(K12="已完成","",IF((H12-TODAY())>参数表!$V$3,"",IF(H12="","",IF(TODAY()>H12,参数表!$Q$4,参数表!$Q$3)))) | M12: =IF(K12="已完成","",IF((H12-TODAY())>参数表!$V$3,"",IF(H12="","",IF(TODAY()>H12,"进度已落后"&(TODAY()-H12)&"天","还有"&(H12-TODAY())&"天，进度将落后")))) | O12: 涂布机 | Q12: 联调完成
A13: 2.3 | C13: 辊压机上料 | D13: 邓俊杰 | E13: 调试第1周 | F13: 调试第1周 | G13: =IFERROR(VLOOKUP($E13,参数表!$J$3:$N$25,2,0),"暂无记录") -> 44958 | H13: =IFERROR(VLOOKUP($F13,参数表!$J$3:$N$25,4,0),"暂无记录") -> 44964 | I13: =IF(H13-G13<0,"请检查工期",H13-G13+1) -> 7 | J13: 1 | K13: =IF(J13=1,参数表!$P$3,IF(J13=0,参数表!$P$5,参数表!$P$4)) -> 已完成 | L13: =IF(K13="已完成","",IF((H13-TODAY())>参数表!$V$3,"",IF(H13="","",IF(TODAY()>H13,参数表!$Q$4,参数表!$Q$3)))) | M13: =IF(K13="已完成","",IF((H13-TODAY())>参数表!$V$3,"",IF(H13="","",IF(TODAY()>H13,"进度已落后"&(TODAY()-H13)&"天","还有"&(H13-TODAY())&"天，进度将落后")))) | O13: 辊分机 | Q13: 联调完成
A14: 2.4 | C14: M11缓存架 | D14: 邓俊杰 | E14: 调试第4周 | F14: 调试第6周 | G14: =IFERROR(VLOOKUP($E14,参数表!$J$3:$N$25,2,0),"暂无记录") -> 44979 | H14: =IFERROR(VLOOKUP($F14,参数表!$J$3:$N$25,4,0),"暂无记录") -> 44999 | I14: =IF(H14-G14<0,"请检查工期",H14-G14+1) -> 21 | J14: 1 | K14: =IF(J14=1,参数表!$P$3,IF(J14=0,参数表!$P$5,参数表!$P$4)) -> 已完成 | L14: =IF(K14="已完成","",IF((H14-TODAY())>参数表!$V$3,"",IF(H14="","",IF(TODAY()>H14,参数表!$Q$4,参数表!$Q$3)))) | M14: =IF(K14="已完成","",IF((H14-TODAY())>参数表!$V$3,"",IF(H14="","",IF(TODAY()>H14,"进度已落后"&(TODAY()-H14)&"天","还有"&(H14-TODAY())&"天，进度将落后")))) | O14: AGV系统 | Q14: 联调完成
A15: 2.5 | C15: M11提升机 | D15: 邓俊杰 | E15: 调试第4周 | F15: 调试第6周 | G15: =IFERROR(VLOOKUP($E15,参数表!$J$3:$N$25,2,0),"暂无记录") -> 44979 | H15: =IFERROR(VLOOKUP($F15,参数表!$J$3:$N$25,4,0),"暂无记录") -> 44999 | I15: =IF(H15-G15<0,"请检查工期",H15-G15+1) -> 21 | J15: 1 | K15: =IF(J15=1,参数表!$P$3,IF(J15=0,参数表!$P$5,参数表!$P$4)) -> 已完成 | L15: =IF(K15="已完成","",IF((H15-TODAY())>参数表!$V$3,"",IF(H15="","",IF(TODAY()>H15,参数表!$Q$4,参数表!$Q$3)))) | M15: =IF(K15="已完成","",IF((H15-TODAY())>参数表!$V$3,"",IF(H15="","",IF(TODAY()>H15,"进度已落后"&(TODAY()-H15)&"天","还有"&(H15-TODAY())&"天，进度将落后")))) | O15: 输送线电控 | Q15: 联调完成
A16: 2.6 | C16: M11叠片机 | D16: 邓俊杰 | E16: 调试第4周 | F16: 调试第8周 | G16: =IFERROR(VLOOKUP($E16,参数表!$J$3:$N$25,2,0),"暂无记录") -> 44979 | H16: =IFERROR(VLOOKUP($F16,参数表!$J$3:$N$25,4,0),"暂无记录") -> 45013 | I16: =IF(H16-G16<0,"请检查工期",H16-G16+1) -> 35 | J16: 1 | K16: =IF(J16=1,参数表!$P$3,IF(J16=0,参数表!$P$5,参数表!$P$4)) -> 已完成 | L16: =IF(K16="已完成","",IF((H16-TODAY())>参数表!$V$3,"",IF(H16="","",IF(TODAY()>H16,参数表!$Q$4,参数表!$Q$3)))) | M16: =IF(K16="已完成","",IF((H16-TODAY())>参数表!$V$3,"",IF(H16="","",IF(TODAY()>H16,"进度已落后"&(TODAY()-H16)&"天","还有"&(H16-TODAY())&"天，进度将落后")))) | N16: 叠片机呼叫按钮未定，自动门有问题 | O16: 叠片机 | Q16: 联调完成
A17: 2.7 | C17: 箔材提升机 | D17: 邓俊杰 | E17: 调试第8周 | F17: 调试第8周 | G17: =IFERROR(VLOOKUP($E17,参数表!$J$3:$N$25,2,0),"暂无记录") -> 45007 | H17: =IFERROR(VLOOKUP($F17,参数表!$J$3:$N$25,4,0),"暂无记录") -> 45013 | I17: =IF(H17-G17<0,"请检查工期",H17-G17+1) -> 7 | J17: 1 | K17: =IF(J17=1,参数表!$P$3,IF(J17=0,参数表!$P$5,参数表!$P$4)) -> 已完成 | L17: =IF(K17="已完成","",IF((H17-TODAY())>参数表!$V$3,"",IF(H17="","",IF(TODAY()>H17,参数表!$Q$4,参数表!$Q$3)))) | M17: =IF(K17="已完成","",IF((H17-TODAY())>参数表!$V$3,"",IF(H17="","",IF(TODAY()>H17,"进度已落后"&(TODAY()-H17)&"天","还有"&(H17-TODAY())&"天，进度将落后")))) | O17: 输送线电控 | Q17: 联调完成
A18: 2.8 | C18: M11空筒回收 | D18: 邓俊杰 | E18: 调试第7周 | F18: 调试第8周 | G18: =IFERROR(VLOOKUP($E18,参数表!$J$3:$N$25,2,0),"暂无记录") -> 45000 | H18: =IFERROR(VLOOKUP($F18,参数表!$J$3:$N$25,4,0),"暂无记录") -> 45013 | I18: =IF(H18-G18<0,"请检查工期",H18-G18+1) -> 14 | J18: 1 | K18: =IF(J18=1,参数表!$P$3,IF(J18=0,参数表!$P$5,参数表!$P$4)) -> 已完成 | L18: =IF(K18="已完成","",IF((H18-TODAY())>参数表!$V$3,"",IF(H18="","",IF(TODAY()>H18,参数表!$Q$4,参数表!$Q$3)))) | M18: =IF(K18="已完成","",IF((H18-TODAY())>参数表!$V$3,"",IF(H18="","",IF(TODAY()>H18,"进度已落后"&(TODAY()-H18)&"天","还有"&(H18-TODAY())&"天，进度将落后")))) | N18: 提升机传送托盘类型逻辑需完善 | O18: AGV系统 | Q18: 联调完成
A19: 3.1 | B19: 接口 | C19: 立体库入库接口 | D19: 邓俊杰 | E19: 调试第1周 | F19: 调试第2周 | G19: =IFERROR(VLOOKUP($E19,参数表!$J$3:$N$25,2,0),"暂无记录") -> 44958 | H19: =IFERROR(VLOOKUP($F19,参数表!$J$3:$N$25,4,0),"暂无记录") -> 44971 | I19: =IF(H19-G19<0,"请检查工期",H19-G19+1) -> 14 | J19: 1 | K19: =IF(J19=1,参数表!$P$3,IF(J19=0,参数表!$P$5,参数表!$P$4)) -> 已完成 | L19: =IF(K19="已完成","",IF((H19-TODAY())>参数表!$V$3,"",IF(H19="","",IF(TODAY()>H19,参数表!$Q$4,参数表!$Q$3)))) | M19: =IF(K19="已完成","",IF((H19-TODAY())>参数表!$V$3,"",IF(H19="","",IF(TODAY()>H19,"进度已落后"&(TODAY()-H19)&"天","还有"&(H19-TODAY())&"天，进度将落后")))) | O19: 立库系统 | Q19: 联调完成
A20: 3.2 | C20: 立体库出库接口 | D20: 邓俊杰 | E20: 调试第1周 | F20: 调试第2周 | G20: =IFERROR(VLOOKUP($E20,参数表!$J$3:$N$25,2,0),"暂无记录") -> 44958 | H20: =IFERROR(VLOOKUP($F20,参数表!$J$3:$N$25,4,0),"暂无记录") -> 44971 | I20: =IF(H20-G20<0,"请检查工期",H20-G20+1) -> 14 | J20: 1 | K20: =IF(J20=1,参数表!$P$3,IF(J20=0,参数表!$P$5,参数表!$P$4)) -> 已完成 | L20: =IF(K20="已完成","",IF((H20-TODAY())>参数表!$V$3,"",IF(H20="","",IF(TODAY()>H20,参数表!$Q$4,参数表!$Q$3)))) | M20: =IF(K20="已完成","",IF((H20-TODAY())>参数表!$V$3,"",IF(H20="","",IF(TODAY()>H20,"进度已落后"&(TODAY()-H20)&"天","还有"&(H20-TODAY())&"天，进度将落后")))) | O20: 立库系统 | Q20: 联调完成
A21: 3.3 | C21: 出入口反馈接口 | D21: 邓俊杰 | E21: 调试第1周 | F21: 调试第2周 | G21: =IFERROR(VLOOKUP($E21,参数表!$J$3:$N$25,2,0),"暂无记录") -> 44958 | H21: =IFERROR(VLOOKUP($F21,参数表!$J$3:$N$25,4,0),"暂无记录") -> 44971 | I21: =IF(H21-G21<0,"请检查工期",H21-G21+1) -> 14 | J21: 1 | K21: =IF(J21=1,参数表!$P$3,IF(J21=0,参数表!$P$5,参数表!$P$4)) -> 已完成 | L21: =IF(K21="已完成","",IF((H21-TODAY())>参数表!$V$3,"",IF(H21="","",IF(TODAY()>H21,参数表!$Q$4,参数表!$Q$3)))) | M21: =IF(K21="已完成","",IF((H21-TODAY())>参数表!$V$3,"",IF(H21="","",IF(TODAY()>H21,"进度已落后"&(TODAY()-H21)&"天","还有"&(H21-TODAY())&"天，进度将落后")))) | O21: 立库系统 | Q21: 联调完成
A22: 3.4 | C22: 出入库完成接口 | D22: 邓俊杰 | E22: 调试第1周 | F22: 调试第2周 | G22: =IFERROR(VLOOKUP($E22,参数表!$J$3:$N$25,2,0),"暂无记录") -> 44958 | H22: =IFERROR(VLOOKUP($F22,参数表!$J$3:$N$25,4,0),"暂无记录") -> 44971 | I22: =IF(H22-G22<0,"请检查工期",H22-G22+1) -> 14 | J22: 1 | K22: =IF(J22=1,参数表!$P$3,IF(J22=0,参数表!$P$5,参数表!$P$4)) -> 已完成 | L22: =IF(K22="已完成","",IF((H22-TODAY())>参数表!$V$3,"",IF(H22="","",IF(TODAY()>H22,参数表!$Q$4,参数表!$Q$3)))) | M22: =IF(K22="已完成","",IF((H22-TODAY())>参数表!$V$3,"",IF(H22="","",IF(TODAY()>H22,"进度已落后"&(TODAY()-H22)&"天","还有"&(H22-TODAY())&"天，进度将落后")))) | O22: 立库系统 | Q22: 联调完成
A23: 3.5 | C23: 出入库手动完成/取消接口 | D23: 邓俊杰 | E23: 调试第3周 | F23: 调试第4周 | G23: =IFERROR(VLOOKUP($E23,参数表!$J$3:$N$25,2,0),"暂无记录") -> 44972 | H23: =IFERROR(VLOOKUP($F23,参数表!$J$3:$N$25,4,0),"暂无记录") -> 44985 | I23: =IF(H23-G23<0,"请检查工期",H23-G23+1) -> 14 | J23: 1 | K23: =IF(J23=1,参数表!$P$3,IF(J23=0,参数表!$P$5,参数表!$P$4)) -> 已完成 | L23: =IF(K23="已完成","",IF((H23-TODAY())>参数表!$V$3,"",IF(H23="","",IF(TODAY()>H23,参数表!$Q$4,参数表!$Q$3)))) | M23: =IF(K23="已完成","",IF((H23-TODAY())>参数表!$V$3,"",IF(H23="","",IF(TODAY()>H23,"进度已落后"&(TODAY()-H23)&"天","还有"&(H23-TODAY())&"天，进度将落后")))) | N23: 手动完成时立库程序问题 | O23: 立库系统 | Q23: 联调完成
A25: 审核： 校核： 制表： .
